BEGIN:VCALENDAR
VERSION:2.0
PRODID:-//Good Luck Fishing - ECPv6.15.20//NONSGML v1.0//EN
CALSCALE:GREGORIAN
METHOD:PUBLISH
X-WR-CALNAME:Good Luck Fishing
X-ORIGINAL-URL:https://goodluckfishing.com
X-WR-CALDESC:Events for Good Luck Fishing
REFRESH-INTERVAL;VALUE=DURATION:PT1H
X-Robots-Tag:noindex
X-PUBLISHED-TTL:PT1H
BEGIN:VTIMEZONE
TZID:UTC
BEGIN:STANDARD
TZOFFSETFROM:+0000
TZOFFSETTO:+0000
TZNAME:UTC
DTSTART:20230101T000000
END:STANDARD
END:VTIMEZONE
BEGIN:VEVENT
DTSTART;TZID=UTC:20241205T080000
DTEND;TZID=UTC:20241205T170000
DTSTAMP:20260422T163727
CREATED:20241205T104131Z
LAST-MODIFIED:20241205T104445Z
UID:7713-1733385600-1733418000@goodluckfishing.com
SUMMARY:Tournment 1
DESCRIPTION:At Good Luck Fishing\, we believe in giving back to the waters that provide us with so much joy. Our eco-friendly initiatives focus on sustainable fishing practices and environmental conservation. We actively participate in and organize community clean-up events\, aiming to keep our waterways pristine and healthy. Additionally\, we collaborate with marine conservation organizations to support habitat restoration and protect endangered species. We also educate our community about responsible fishing methods to reduce environmental impact. By choosing us\, you’re joining a movement that values sustainability and ensures the future of fishing for generations to come.
URL:https://goodluckfishing.com/tournments/tournment-1/
LOCATION:Sea\, Your Location\, UK\, 64664\, United Kingdom
ATTACH;FMTTYPE=image/png:https://goodluckfishing.com/wp-content/uploads/2024/12/p2.png
ORGANIZER;CN="Admin":MAILTO:admin@gmail.com
END:VEVENT
END:VCALENDAR